BEGIN:VCALENDAR
VERSION:2.0
PRODID:-//XlineGamers//XlineGamers Lan 03//EN
BEGIN:VEVENT
UID:69e98ca07076e
DTSTAMP:20260423T030608Z
DTSTART:20260725T140000Z
DTEND:20260726T115900Z
SUMMARY:XlineGamers Lan 03
DESCRIPTION:Games we might play at lanThese are the games we might play at lan so kindly have them at the ready and tested click on the game to get it:-Golf With friendsRed Alert TrackmaniaArtemis Spaceship Bridge SimulatorArtemis CosmosRocket League Any other games you can think of them please message us on discord at Link To Our Discord  What to bring LanComputerMonitorKeyboard, Mouse, MousematHeadphones (speakers are not allowed)Monitor cables, power cables, 4-way extension cable(you will be provided with 1 power socket and kindly make sure your power cables are fully unwind and no Daisey chaining them)Mobile phone + ChargerLaptop / Console / CoolerSleeping bagCampbed / Airbed (*)PillowToothbrush / ToothpasteWallet, purse and some cashTowel / Shampoo (In case you want to go into town for a shower)(*) Due to space limitations, if you’re going to be sleeping alone, please only take a single airbed.There is no shower at the venue, so make sure you freshen up before coming! There are toilets with sinks.There is a swimming pool (LifeLeisure Hazel Grove) 5 minutes drive away.Food and DrinksThis is going to be more varied from person to person. If you want to save some money, it’s a great idea to take as much of your own food and drink as possible. If convenience is what you’re looking for, remembering your debit card and some cash will be in order. There are plenty of takeaways that deliver to the hall and many more less than 10 minute drive away. Most people go for a mix of both pre-prepared food and takeaways.If you’re bringing food and drink, remember the followingChilled storage space is extremely limited and there may not be any available at all. Milk for tea / coffee and sandwich meat is probably the only space that will be available. There is almost certainly no space for ready meals or chilled drinks.There is a kettle and microwave available, free.Please clean up kitchen as you use it
LOCATION:The Scout Hut\, Linney Road\, Bramhall\, Stockport\, SK7 3JW\, United Kingdom
END:VEVENT
END:VCALENDAR
